Workbook

Sheet About
A1: Restaurants Now Outnumber Pubs in the UK: Data
A2: Homefords analysis of ONS UK Business Counts, 2026
A4: Using this data
A5: You are welcome to use these figures in your own reporting. Please credit Homefords and link to the source page.
A6: Suggested credit: Homefords analysis of ONS UK Business Counts, 2026. https://homefords.co.uk/restaurants-outnumber-pubs/
A8: What is in this file
A9: Regions 2019 vs 2026: change in pubs and licensed restaurants for every UK region, plus restaurants for every 100 pubs.
A10: UK trend: UK totals for every year from 2010 to 2026, with the gap between restaurants and pubs, and a chart.
A11: Pubs and bars: full regional series, 2010 to 2026.
A12: Licensed restaurants: full regional series, 2010 to 2026.
A14: Definitions
A15: Pubs and bars: SIC 2007 code 56302, public houses and bars.
... A30: hello@homefords.co.uk | homefords.co.uk

Sheet Regions 2019 vs 2026
A1: Pubs and licensed restaurants by region, 2019 vs 2026
A2: March 2019 and March 2026. Changes and ratios are calculated from the counts on the data sheets.
B4: Pubs and bars | F4: Licensed restaurants
A5: Region | B5: 2019 | C5: 2026 | D5: Change | E5: % change | F5: 2019 | G5: 2026 | H5: Change | I5: % change | J5: Restaurants per 100 pubs, 2026
A6: North East | B6: ='Pubs and bars'!L5 -> 1700 | C6: ='Pubs and bars'!S5 -> 1655 | D6: =C6-B6 -> -45 | E6: =IF(B6=0,"",D6/B6) -> -0.026470588 | F6: ='Licensed restaurants'!L5 -> 1085 | G6: ='Licensed restaurants'!S5 -> 1215 | H6: =G6-F6 -> 130 | I6: =IF(F6=0,"",H6/F6) -> 0.11981567 | J6: =IF(C6=0,"",ROUND(G6/C6*100,0)) -> 73
A7: North West | B7: ='Pubs and bars'!L6 -> 4535 | C7: ='Pubs and bars'!S6 -> 4460 | D7: =C7-B7 -> -75 | E7: =IF(B7=0,"",D7/B7) -> -0.016538037 | F7: ='Licensed restaurants'!L6 -> 3275 | G7: ='Licensed restaurants'!S6 -> 3735 | H7: =G7-F7 -> 460 | I7: =IF(F7=0,"",H7/F7) -> 0.14045802 | J7: =IF(C7=0,"",ROUND(G7/C7*100,0)) -> 84
A8: Yorkshire and The Humber | B8: ='Pubs and bars'!L7 -> 3705 | C8: ='Pubs and bars'!S7 -> 3670 | D8: =C8-B8 -> -35 | E8: =IF(B8=0,"",D8/B8) -> -0.0094466937 | F8: ='Licensed restaurants'!L7 -> 2290 | G8: ='Licensed restaurants'!S7 -> 2510 | H8: =G8-F8 -> 220 | I8: =IF(F8=0,"",H8/F8) -> 0.096069869 | J8: =IF(C8=0,"",ROUND(G8/C8*100,0)) -> 68
A9: East Midlands | B9: ='Pubs and bars'!L8 -> 3210 | C9: ='Pubs and bars'!S8 -> 3005 | D9: =C9-B9 -> -205 | E9: =IF(B9=0,"",D9/B9) -> -0.063862928 | F9: ='Licensed restaurants'!L8 -> 1870 | G9: ='Licensed restaurants'!S8 -> 2095 | H9: =G9-F9 -> 225 | I9: =IF(F9=0,"",H9/F9) -> 0.12032086 | J9: =IF(C9=0,"",ROUND(G9/C9*100,0)) -> 70
A10: West Midlands | B10: ='Pubs and bars'!L9 -> 3515 | C10: ='Pubs and bars'!S9 -> 3340 | D10: =C10-B10 -> -175 | E10: =IF(B10=0,"",D10/B10) -> -0.049786629 | F10: ='Licensed restaurants'!L9 -> 2225 | G10: ='Licensed restaurants'!S9 -> 2340 | H10: =G10-F10 -> 115 | I10: =IF(F10=0,"",H10/F10) -> 0.051685393 | J10: =IF(C10=0,"",ROUND(G10/C10*100,0)) -> 70
A11: East | B11: ='Pubs and bars'!L10 -> 3495 | C11: ='Pubs and bars'!S10 -> 3270 | D11: =C11-B11 -> -225 | E11: =IF(B11=0,"",D11/B11) -> -0.064377682 | F11: ='Licensed restaurants'!L10 -> 3000 | G11: ='Licensed restaurants'!S10 -> 3260 | H11: =G11-F11 -> 260 | I11: =IF(F11=0,"",H11/F11) -> 0.086666667 | J11: =IF(C11=0,"",ROUND(G11/C11*100,0)) -> 100
A12: London | B12: ='Pubs and bars'!L11 -> 3550 | C12: ='Pubs and bars'!S11 -> 3625 | D12: =C12-B12 -> 75 | E12: =IF(B12=0,"",D12/B12) -> 0.021126761 | F12: ='Licensed restaurants'!L11 -> 8395 | G12: ='Licensed restaurants'!S11 -> 9560 | H12: =G12-F12 -> 1165 | I12: =IF(F12=0,"",H12/F12) -> 0.13877308 | J12: =IF(C12=0,"",ROUND(G12/C12*100,0)) -> 264
A13: South East | B13: ='Pubs and bars'!L12 -> 5340 | C13: ='Pubs and bars'!S12 -> 5030 | D13: =C13-B13 -> -310 | E13: =IF(B13=0,"",D13/B13) -> -0.058052434 | F13: ='Licensed restaurants'!L12 -> 4820 | G13: ='Licensed restaurants'!S12 -> 5220 | H13: =G13-F13 -> 400 | I13: =IF(F13=0,"",H13/F13) -> 0.082987552 | J13: =IF(C13=0,"",ROUND(G13/C13*100,0)) -> 104
A14: South West | B14: ='Pubs and bars'!L13 -> 4255 | C14: ='Pubs and bars'!S13 -> 4015 | D14: =C14-B14 -> -240 | E14: =IF(B14=0,"",D14/B14) -> -0.05640423 | F14: ='Licensed restaurants'!L13 -> 3220 | G14: ='Licensed restaurants'!S13 -> 3515 | H14: =G14-F14 -> 295 | I14: =IF(F14=0,"",H14/F14) -> 0.091614907 | J14: =IF(C14=0,"",ROUND(G14/C14*100,0)) -> 88
A15: Wales | B15: ='Pubs and bars'!L14 -> 2190 | C15: ='Pubs and bars'!S14 -> 2005 | D15: =C15-B15 -> -185 | E15: =IF(B15=0,"",D15/B15) -> -0.084474886 | F15: ='Licensed restaurants'!L14 -> 1380 | G15: ='Licensed restaurants'!S14 -> 1605 | H15: =G15-F15 -> 225 | I15: =IF(F15=0,"",H15/F15) -> 0.16304348 | J15: =IF(C15=0,"",ROUND(G15/C15*100,0)) -> 80
A16: Scotland | B16: ='Pubs and bars'!L15 -> 2855 | C16: ='Pubs and bars'!S15 -> 2540 | D16: =C16-B16 -> -315 | E16: =IF(B16=0,"",D16/B16) -> -0.11033275 | F16: ='Licensed restaurants'!L15 -> 2820 | G16: ='Licensed restaurants'!S15 -> 2975 | H16: =G16-F16 -> 155 | I16: =IF(F16=0,"",H16/F16) -> 0.054964539 | J16: =IF(C16=0,"",ROUND(G16/C16*100,0)) -> 117
A17: Northern Ireland | B17: ='Pubs and bars'!L16 -> 790 | C17: ='Pubs and bars'!S16 -> 745 | D17: =C17-B17 -> -45 | E17: =IF(B17=0,"",D17/B17) -> -0.056962025 | F17: ='Licensed restaurants'!L16 -> 725 | G17: ='Licensed restaurants'!S16 -> 695 | H17: =G17-F17 -> -30 | I17: =IF(F17=0,"",H17/F17) -> -0.04137931 | J17: =IF(C17=0,"",ROUND(G17/C17*100,0)) -> 93
A18: United Kingdom | B18: ='Pubs and bars'!L17 -> 39145 | C18: ='Pubs and bars'!S17 -> 37350 | D18: =C18-B18 -> -1795 | E18: =IF(B18=0,"",D18/B18) -> -0.045855154 | F18: ='Licensed restaurants'!L17 -> 35105 | G18: ='Licensed restaurants'!S17 -> 38735 | H18: =G18-F18 -> 3630 | I18: =IF(F18=0,"",H18/F18) -> 0.10340407 | J18: =IF(C18=0,"",ROUND(G18/C18*100,0)) -> 104
A20: Counts are rounded to the nearest 5 by ONS. ONS widened its business register in 2015, so years before 2015 are not directly comparable with later years.

Sheet Pubs and bars
A1: Pubs and bars, by region, 2010 to 2026
A2: Business sites (local units), SIC 2007 code 56302, March of each year. Source: ONS UK Business Counts via Nomis.
A4: Region | B4: ONS code | C4: 2010 | D4: 2011 | E4: 2012 | F4: 2013 | G4: 2014 | H4: 2015 | I4: 2016 | J4: 2017 | K4: 2018 | L4: 2019 | M4: 2020 | N4: 2021 | O4: 2022 | P4: 2023 | Q4: 2024 | R4: 2025 | S4: 2026
A5: North East | B5: E12000001 | C5: 1795 | D5: 1705 | E5: 1690 | F5: 1625 | G5: 1645 | H5: 1650 | I5: 1605 | J5: 1600 | K5: 1615 | L5: 1700 | M5: 1700 | N5: 1665 | O5: 1685 | P5: 1670 | Q5: 1655 | R5: 1660 | S5: 1655
A6: North West | B6: E12000002 | C6: 5205 | D6: 5035 | E6: 4955 | F6: 4740 | G6: 4660 | H6: 4665 | I6: 4600 | J6: 4515 | K6: 4485 | L6: 4535 | M6: 4490 | N6: 4385 | O6: 4520 | P6: 4520 | Q6: 4530 | R6: 4565 | S6: 4460
A7: Yorkshire and The Humber | B7: E12000003 | C7: 4125 | D7: 3945 | E7: 3915 | F7: 3820 | G7: 3785 | H7: 3805 | I7: 3745 | J7: 3660 | K7: 3665 | L7: 3705 | M7: 3725 | N7: 3680 | O7: 3770 | P7: 3780 | Q7: 3710 | R7: 3705 | S7: 3670
A8: East Midlands | B8: E12000004 | C8: 3720 | D8: 3585 | E8: 3475 | F8: 3385 | G8: 3305 | H8: 3320 | I8: 3245 | J8: 3225 | K8: 3230 | L8: 3210 | M8: 3185 | N8: 3100 | O8: 3140 | P8: 3140 | Q8: 3115 | R8: 3070 | S8: 3005
A9: West Midlands | B9: E12000005 | C9: 3990 | D9: 3840 | E9: 3780 | F9: 3645 | G9: 3595 | H9: 3580 | I9: 3515 | J9: 3480 | K9: 3435 | L9: 3515 | M9: 3485 | N9: 3415 | O9: 3485 | P9: 3505 | Q9: 3485 | R9: 3430 | S9: 3340
A10: East | B10: E12000006 | C10: 4010 | D10: 3860 | E10: 3800 | F10: 3630 | G10: 3635 | H10: 3575 | I10: 3515 | J10: 3450 | K10: 3440 | L10: 3495 | M10: 3490 | N10: 3380 | O10: 3365 | P10: 3290 | Q10: 3250 | R10: 3275 | S10: 3270
A11: London | B11: E12000007 | C11: 3915 | D11: 3795 | E11: 3795 | F11: 3685 | G11: 3635 | H11: 3690 | I11: 3630 | J11: 3545 | K11: 3560 | L11: 3550 | M11: 3590 | N11: 3565 | O11: 3585 | P11: 3545 | Q11: 3535 | R11: 3620 | S11: 3625
A12: South East | B12: E12000008 | C12: 6195 | D12: 5975 | E12: 5905 | F12: 5650 | G12: 5610 | H12: 5555 | I12: 5450 | J12: 5320 | K12: 5330 | L12: 5340 | M12: 5250 | N12: 5130 | O12: 5150 | P12: 5130 | Q12: 5120 | R12: 5120 | S12: 5030
A13: South West | B13: E12000009 | C13: 4825 | D13: 4715 | E13: 4590 | F13: 4485 | G13: 4385 | H13: 4375 | I13: 4285 | J13: 4245 | K13: 4200 | L13: 4255 | M13: 4205 | N13: 4105 | O13: 4095 | P13: 4080 | Q13: 4015 | R13: 4005 | S13: 4015
A14: Wales | B14: W92000004 | C14: 2720 | D14: 2575 | E14: 2565 | F14: 2440 | G14: 2425 | H14: 2380 | I14: 2305 | J14: 2260 | K14: 2215 | L14: 2190 | M14: 2195 | N14: 2035 | O14: 2030 | P14: 2095 | Q14: 2055 | R14: 2035 | S14: 2005
A15: Scotland | B15: S92000003 | C15: 3215 | D15: 3230 | E15: 3200 | F15: 3025 | G15: 3025 | H15: 2985 | I15: 2915 | J15: 2860 | K15: 2860 | L15: 2855 | M15: 2795 | N15: 2645 | O15: 2660 | P15: 2655 | Q15: 2620 | R15: 2565 | S15: 2540
A16: Northern Ireland | B16: N92000002 | C16: 965 | D16: 970 | E16: 925 | F16: 880 | G16: 830 | H16: 785 | I16: 780 | J16: 775 | K16: 785 | L16: 790 | M16: 770 | N16: 755 | O16: 745 | P16: 760 | Q16: 770 | R16: 755 | S16: 745
A17: United Kingdom | B17: K02000001 | C17: 44680 | D17: 43230 | E17: 42585 | F17: 41015 | G17: 40540 | H17: 40360 | I17: 39590 | J17: 38935 | K17: 38825 | L17: 39145 | M17: 38885 | N17: 37865 | O17: 38225 | P17: 38175 | Q17: 37875 | R17: 37805 | S17: 37350
A19: Counts are rounded to the nearest 5 by ONS. ONS widened its business register in 2015, so years before 2015 are not directly comparable with later years.

Sheet Licensed restaurants
A1: Licensed restaurants, by region, 2010 to 2026
A2: Business sites (local units), SIC 2007 code 56101, March of each year. Source: ONS UK Business Counts via Nomis.
A4: Region | B4: ONS code | C4: 2010 | D4: 2011 | E4: 2012 | F4: 2013 | G4: 2014 | H4: 2015 | I4: 2016 | J4: 2017 | K4: 2018 | L4: 2019 | M4: 2020 | N4: 2021 | O4: 2022 | P4: 2023 | Q4: 2024 | R4: 2025 | S4: 2026
A5: North East | B5: E12000001 | C5: 770 | D5: 760 | E5: 795 | F5: 780 | G5: 865 | H5: 945 | I5: 960 | J5: 1005 | K5: 1035 | L5: 1085 | M5: 1135 | N5: 1100 | O5: 1155 | P5: 1155 | Q5: 1165 | R5: 1195 | S5: 1215
A6: North West | B6: E12000002 | C6: 2520 | D6: 2455 | E6: 2560 | F6: 2595 | G6: 2700 | H6: 2905 | I6: 2970 | J6: 3070 | K6: 3190 | L6: 3275 | M6: 3385 | N6: 3450 | O6: 3655 | P6: 3665 | Q6: 3540 | R6: 3520 | S6: 3735
A7: Yorkshire and The Humber | B7: E12000003 | C7: 1735 | D7: 1700 | E7: 1760 | F7: 1770 | G7: 1875 | H7: 2015 | I7: 2075 | J7: 2095 | K7: 2170 | L7: 2290 | M7: 2340 | N7: 2415 | O7: 2520 | P7: 2470 | Q7: 2410 | R7: 2440 | S7: 2510
A8: East Midlands | B8: E12000004 | C8: 1480 | D8: 1445 | E8: 1515 | F8: 1510 | G8: 1550 | H8: 1675 | I8: 1675 | J8: 1770 | K8: 1850 | L8: 1870 | M8: 1855 | N8: 1890 | O8: 1960 | P8: 1940 | Q8: 1955 | R8: 1995 | S8: 2095
A9: West Midlands | B9: E12000005 | C9: 1835 | D9: 1750 | E9: 1855 | F9: 1805 | G9: 1900 | H9: 2045 | I9: 2110 | J9: 2135 | K9: 2210 | L9: 2225 | M9: 2270 | N9: 2260 | O9: 2360 | P9: 2285 | Q9: 2215 | R9: 2220 | S9: 2340
A10: East | B10: E12000006 | C10: 2450 | D10: 2410 | E10: 2500 | F10: 2485 | G10: 2610 | H10: 2785 | I10: 2860 | J10: 2855 | K10: 2925 | L10: 3000 | M10: 3065 | N10: 3095 | O10: 3280 | P10: 3295 | Q10: 3170 | R10: 3145 | S10: 3260
A11: London | B11: E12000007 | C11: 6220 | D11: 6250 | E11: 6705 | F11: 6755 | G11: 7070 | H11: 7545 | I11: 7780 | J11: 8025 | K11: 8240 | L11: 8395 | M11: 8500 | N11: 8675 | O11: 8945 | P11: 8785 | Q11: 8975 | R11: 9150 | S11: 9560
A12: South East | B12: E12000008 | C12: 4145 | D12: 4115 | E12: 4260 | F12: 4215 | G12: 4400 | H12: 4600 | I12: 4625 | J12: 4750 | K12: 4795 | L12: 4820 | M12: 4785 | N12: 4875 | O12: 5055 | P12: 5030 | Q12: 5060 | R12: 5105 | S12: 5220
A13: South West | B13: E12000009 | C13: 2585 | D13: 2570 | E13: 2680 | F13: 2670 | G13: 2795 | H13: 2930 | I13: 2965 | J13: 3075 | K13: 3195 | L13: 3220 | M13: 3235 | N13: 3260 | O13: 3420 | P13: 3430 | Q13: 3390 | R13: 3405 | S13: 3515
A14: Wales | B14: W92000004 | C14: 1120 | D14: 1100 | E14: 1150 | F14: 1155 | G14: 1160 | H14: 1270 | I14: 1310 | J14: 1335 | K14: 1375 | L14: 1380 | M14: 1425 | N14: 1445 | O14: 1470 | P14: 1510 | Q14: 1500 | R14: 1540 | S14: 1605
A15: Scotland | B15: S92000003 | C15: 2400 | D15: 2365 | E15: 2435 | F15: 2435 | G15: 2550 | H15: 2635 | I15: 2655 | J15: 2655 | K15: 2740 | L15: 2820 | M15: 2870 | N15: 2850 | O15: 2930 | P15: 2900 | Q15: 2915 | R15: 2895 | S15: 2975
A16: Northern Ireland | B16: N92000002 | C16: 630 | D16: 595 | E16: 590 | F16: 590 | G16: 595 | H16: 595 | I16: 625 | J16: 665 | K16: 685 | L16: 725 | M16: 715 | N16: 715 | O16: 725 | P16: 725 | Q16: 715 | R16: 690 | S16: 695
A17: United Kingdom | B17: K02000001 | C17: 27885 | D17: 27525 | E17: 28810 | F17: 28770 | G17: 30075 | H17: 31950 | I17: 32615 | J17: 33440 | K17: 34405 | L17: 35105 | M17: 35590 | N17: 36035 | O17: 37475 | P17: 37195 | Q17: 37015 | R17: 37300 | S17: 38735
A19: Counts are rounded to the nearest 5 by ONS. ONS widened its business register in 2015, so years before 2015 are not directly comparable with later years.

Sheet UK trend
A1: Pubs and bars and Licensed restaurants, United Kingdom, 2010 to 2026
A2: March of each year. Source: ONS UK Business Counts via Nomis.
A4: Year | B4: Pubs and bars | C4: Licensed restaurants | D4: Restaurants minus pubs
A5: 2010 | B5: ='Pubs and bars'!C17 -> 44680 | C5: ='Licensed restaurants'!C17 -> 27885 | D5: =C5-B5 -> -16795
A6: 2011 | B6: ='Pubs and bars'!D17 -> 43230 | C6: ='Licensed restaurants'!D17 -> 27525 | D6: =C6-B6 -> -15705
A7: 2012 | B7: ='Pubs and bars'!E17 -> 42585 | C7: ='Licensed restaurants'!E17 -> 28810 | D7: =C7-B7 -> -13775
A8: 2013 | B8: ='Pubs and bars'!F17 -> 41015 | C8: ='Licensed restaurants'!F17 -> 28770 | D8: =C8-B8 -> -12245
A9: 2014 | B9: ='Pubs and bars'!G17 -> 40540 | C9: ='Licensed restaurants'!G17 -> 30075 | D9: =C9-B9 -> -10465
A10: 2015 | B10: ='Pubs and bars'!H17 -> 40360 | C10: ='Licensed restaurants'!H17 -> 31950 | D10: =C10-B10 -> -8410
A11: 2016 | B11: ='Pubs and bars'!I17 -> 39590 | C11: ='Licensed restaurants'!I17 -> 32615 | D11: =C11-B11 -> -6975
A12: 2017 | B12: ='Pubs and bars'!J17 -> 38935 | C12: ='Licensed restaurants'!J17 -> 33440 | D12: =C12-B12 -> -5495
A13: 2018 | B13: ='Pubs and bars'!K17 -> 38825 | C13: ='Licensed restaurants'!K17 -> 34405 | D13: =C13-B13 -> -4420
A14: 2019 | B14: ='Pubs and bars'!L17 -> 39145 | C14: ='Licensed restaurants'!L17 -> 35105 | D14: =C14-B14 -> -4040
A15: 2020 | B15: ='Pubs and bars'!M17 -> 38885 | C15: ='Licensed restaurants'!M17 -> 35590 | D15: =C15-B15 -> -3295
A16: 2021 | B16: ='Pubs and bars'!N17 -> 37865 | C16: ='Licensed restaurants'!N17 -> 36035 | D16: =C16-B16 -> -1830
A17: 2022 | B17: ='Pubs and bars'!O17 -> 38225 | C17: ='Licensed restaurants'!O17 -> 37475 | D17: =C17-B17 -> -750
A18: 2023 | B18: ='Pubs and bars'!P17 -> 38175 | C18: ='Licensed restaurants'!P17 -> 37195 | D18: =C18-B18 -> -980
A19: 2024 | B19: ='Pubs and bars'!Q17 -> 37875 | C19: ='Licensed restaurants'!Q17 -> 37015 | D19: =C19-B19 -> -860
A20: 2025 | B20: ='Pubs and bars'!R17 -> 37805 | C20: ='Licensed restaurants'!R17 -> 37300 | D20: =C20-B20 -> -505
A21: 2026 | B21: ='Pubs and bars'!S17 -> 37350 | C21: ='Licensed restaurants'!S17 -> 38735 | D21: =C21-B21 -> 1385
A23: Counts are rounded to the nearest 5 by ONS. ONS widened its business register in 2015, so years before 2015 are not directly comparable with later years.
